BEGIN:VCALENDAR
VERSION:2.0
PRODID:-//Breathe Well Be Well - ECPv6.6.4.2//NONSGML v1.0//EN
CALSCALE:GREGORIAN
METHOD:PUBLISH
X-WR-CALNAME:Breathe Well Be Well
X-ORIGINAL-URL:https://www.breathewellbewell.info
X-WR-CALDESC:Events for Breathe Well Be Well
REFRESH-INTERVAL;VALUE=DURATION:PT1H
X-Robots-Tag:noindex
X-PUBLISHED-TTL:PT1H
BEGIN:VTIMEZONE
TZID:America/Halifax
BEGIN:DAYLIGHT
TZOFFSETFROM:-0400
TZOFFSETTO:-0300
TZNAME:ADT
DTSTART:20260308T060000
END:DAYLIGHT
BEGIN:STANDARD
TZOFFSETFROM:-0300
TZOFFSETTO:-0400
TZNAME:AST
DTSTART:20261101T050000
END:STANDARD
END:VTIMEZONE
BEGIN:VEVENT
DTSTART;TZID=America/Halifax:20260502T083000
DTEND;TZID=America/Halifax:20260502T093000
DTSTAMP:20260422T070316
CREATED:20250916T163229Z
LAST-MODIFIED:20260318T204534Z
UID:12324-1777710600-1777714200@www.breathewellbewell.info
SUMMARY:Dachshund Yoga at Sun + Soil Plant Parlor
DESCRIPTION:Dachshund Yoga at Sun + Soil Plant Parlor \nHead over to Greenville’s female-owned Sun + Soil Plant Parlor for a morning of grounding breathwork\, gentle movement\, and guided meditation… with dachshunds!! 🐾 \nThis relaxed\, beginner-friendly flow surrounded by pups and plants will be led by the fantastic Perrin White of Breathe Well\, Be Well! Have a dachshund? Bring them along! Don’t have one? Come anyway and soak up the cuteness. Please bring your mat\, water bottle\, and anything that makes you comfy (pillow or bolster encouraged). All pups should be well-behaved and comfortable around others. \n\nWhat to Bring: \nYoga Mat\, Water Bottle\, Pillow/Bolster (optional) … and your DACHSHUND! \n  \nDate: Saturday\, May 2\, 2026 \nTime: 8:30 am- 9:30 am \nCost: $30 + fees / person \nWhere: Sun + Soil Plant Parlor \n  \nBUY YOUR TICKET HERE: \nhttps://www.eventbrite.com/e/dachshund-yoga-tickets-1985393677936?aff=oddtdtcreator
URL:https://www.breathewellbewell.info/event/dachshund-yoga-at-sun-soil-plant-parlor-12/
LOCATION:Sun + Soil Plant Parlor\, 403 Augusta Street\, Greenville\, SC\, 29601\, United States
END:VEVENT
END:VCALENDAR